BEGIN:VCALENDAR
VERSION:2.0
PRODID:-//EMT International - ECPv6.15.18//NONSGML v1.0//EN
CALSCALE:GREGORIAN
METHOD:PUBLISH
X-ORIGINAL-URL:https://emtinternational.com
X-WR-CALDESC:Events for EMT International
REFRESH-INTERVAL;VALUE=DURATION:PT1H
X-Robots-Tag:noindex
X-PUBLISHED-TTL:PT1H
BEGIN:VTIMEZONE
TZID:UTC
BEGIN:STANDARD
TZOFFSETFROM:+0000
TZOFFSETTO:+0000
TZNAME:UTC
DTSTART:20230101T000000
END:STANDARD
END:VTIMEZONE
BEGIN:VEVENT
DTSTART;VALUE=DATE:20240417
DTEND;VALUE=DATE:20240419
DTSTAMP:20260419T182401
CREATED:20240219T144012Z
LAST-MODIFIED:20240219T145016Z
UID:1794-1713312000-1713484799@emtinternational.com
SUMMARY:Converters Expo
DESCRIPTION:Now in its 17th year\, Converters Expo is a one-day expo in the heart of the nation’s largest converting corridor that aims to bring together converters of paper\, film\, plastics\, and nonwovens with industry buyers\, specialists\, and suppliers. \nMeet EMT International on stand 907.
URL:https://emtinternational.com/event/converters-expo/
LOCATION:Lambeau Field\, WI\, United States
ATTACH;FMTTYPE=image/png:https://emtinternational.com/wp-content/uploads/2024/02/CE24_WebsiteHead_1770_FIN.png
END:VEVENT
BEGIN:VEVENT
DTSTART;VALUE=DATE:20240324
DTEND;VALUE=DATE:20240328
DTSTAMP:20260419T182401
CREATED:20240219T125950Z
LAST-MODIFIED:20240223T091010Z
UID:1778-1711238400-1711583999@emtinternational.com
SUMMARY:Dscoop Edge Indianapolis
DESCRIPTION:Edge Indy brings together the best of both worlds — the adrenaline-pumping atmosphere of car racing and the dynamic landscape of digital printing. Just like a race car needs the perfect tune-up to hit peak performance\, your print business deserves the same attention to detail. This event has everything you need to accelerate your success.
URL:https://emtinternational.com/event/dscoop-edge-indianapolis/
LOCATION:Indiana Convention Center\, IN\, United States
ATTACH;FMTTYPE=image/jpeg:https://emtinternational.com/wp-content/uploads/2024/02/Dscoop-Edge-Indy.jpg
END:VEVENT
END:VCALENDAR